BEGIN:VCALENDAR
VERSION:2.0
PRODID:-//ChamberMaster//Event Calendar 2.0//EN
METHOD:PUBLISH
X-PUBLISHED-TTL:P3D
REFRESH-INTERVAL:P3D
CALSCALE:GREGORIAN
BEGIN:VEVENT
DTSTART:20210529T230000Z
DTEND:20210530T030000Z
X-MICROSOFT-CDO-ALLDAYEVENT:FALSE
SUMMARY:Young Americans Dinner Theater
DESCRIPTION:Since 1978\, The Young Americans Dinner Theatre has been entertaining and enchanting audiences of all ages\, making it a Eureka Springs dinner theatre destination.\n\nThe Young Americans ensemble is made up of young\, up-and-coming performers\, handpicked from across the nation for much-anticipated performances at Eureka Springs from Memorial Day through October. To enhance the experience\, the Broadway-style performances are paired with sophisticated cuisine\, resulting in an unforgettable evening of delicious fun.\n\nWhile you enjoy dinner\, The Young Americans sing songs   from the classics you've always loved to today's favorite pop hits. Watch as charismatic young singers\, dancers\, and actors dazzle on stage while you savor the satisfaction of the evening and create the kind of memories that set Eureka Springs apart.\n\n\n\nShow-only tickets are available as well.
X-ALT-DESC;FMTTYPE=text/html:<p style="box-sizing: inherit\; margin: 0in 0in 12pt\; line-height: 17.15pt\; color: rgba(0\, 0\, 0\, 0.87)\; font-family: -apple-system\, BlinkMacSystemFont\, &quot\;Segoe UI&quot\;\, Roboto\, Oxygen\, Ubuntu\, Cantarell\, &quot\;Fira Sans&quot\;\, &quot\;Droid Sans&quot\;\, &quot\;Helvetica Neue&quot\;\, sans-serif\; font-size: 14px\; background: white\;"><span style="box-sizing: inherit\; font-size: 10pt\; font-family: Lato\, sans-serif\; color: rgb(87\, 87\, 87)\;">Since 1978\, The Young Americans Dinner Theatre has been entertaining and enchanting audiences of all ages\, making it a Eureka Springs dinner theatre destination.</span></p>\n\n<p style="box-sizing: border-box\; margin: 0in 0in 12pt\; line-height: 17.15pt\; color: rgba(0\, 0\, 0\, 0.87)\; font-family: -apple-system\, BlinkMacSystemFont\, &quot\;Segoe UI&quot\;\, Roboto\, Oxygen\, Ubuntu\, Cantarell\, &quot\;Fira Sans&quot\;\, &quot\;Droid Sans&quot\;\, &quot\;Helvetica Neue&quot\;\, sans-serif\; font-size: 14px\; background: white\;"><span style="box-sizing: inherit\; font-size: 10pt\; font-family: Lato\, sans-serif\; color: rgb(87\, 87\, 87)\;">The Young Americans ensemble is made up of young\, up-and-coming performers\, handpicked from across the nation for much-anticipated performances at Eureka Springs from Memorial Day through October. To enhance the experience\, the Broadway-style performances are paired with sophisticated cuisine\, resulting in an unforgettable evening of delicious fun.</span></p>\n\n<p style="box-sizing: border-box\; margin: 0in\; line-height: 17.15pt\; color: rgba(0\, 0\, 0\, 0.87)\; font-family: -apple-system\, BlinkMacSystemFont\, &quot\;Segoe UI&quot\;\, Roboto\, Oxygen\, Ubuntu\, Cantarell\, &quot\;Fira Sans&quot\;\, &quot\;Droid Sans&quot\;\, &quot\;Helvetica Neue&quot\;\, sans-serif\; font-size: 14px\; background: white\;"><span style="box-sizing: inherit\; font-size: 10pt\; font-family: Lato\, sans-serif\; color: rgb(87\, 87\, 87)\;">While you enjoy dinner\, The Young Americans sing songs &ndash\; from the classics you&rsquo\;ve always loved to today&rsquo\;s favorite pop hits. Watch as charismatic young singers\, dancers\, and actors dazzle on stage while you savor the satisfaction of the evening and create the kind of memories that set Eureka Springs apart.<br />\n<br />\nShow-only tickets are available as well.&nbsp\;</span></p>\n
LOCATION:Center Stage Event Center 132 Huntsville Rd. Eureka Springs\, AR 72632
UID:e.2743.4354
SEQUENCE:3
DTSTAMP:20260421T221121Z
URL:https://www.eurekaspringschamber.com/events/details/young-americans-dinner-theater-4354
END:VEVENT

END:VCALENDAR
