BEGIN:VCALENDAR
VERSION:2.0
PRODID:-//ChamberMaster//Event Calendar 2.0//EN
METHOD:PUBLISH
X-PUBLISHED-TTL:P3D
REFRESH-INTERVAL:P3D
CALSCALE:GREGORIAN
BEGIN:VEVENT
DTSTART:20260427T220000Z
DTEND:20260428T020000Z
X-MICROSOFT-CDO-ALLDAYEVENT:FALSE
SUMMARY:Summer Splash Bash
DESCRIPTION:Summer Splash Bash 2026 is making waves in Eureka Springs\, and SUP Outfitters is the place to be on Monday\, April 27 from 5 9 PM for an unforgettable evening of music\, adventure\, and laid-back summer vibes.\n\nHosted by sibling duo Dylan and Samantha Buyskes\, this one-night celebration brings together great people\, live music\, and outdoor spirit. Guests can kick back with a BYOB setup (don't forget a chair!) and enjoy a lively atmosphere under the spring sky.\n\nTaking the stage for the evening is Drew Kiddo and the Blackouts\, a gritty 1960s-style honky tonk band blending rockabilly energy with vintage flair as they pass through town for a special one-night performance.\n\nAttendees are encouraged to show up in style there will be prizes and drawings for best dressed\, along with exciting giveaways including a paddle board and an eco tour with a picnic catered by Simply Red Kitchen. Each ticket also includes a mini turkey corn dog to kick off the night.\n\nA curated lineup of local vendors adds to the experience:\n\n\n	Simply Red Kitchen serving food (full menu coming soon)\n	Green Man Crafts featuring handcrafted cutting boards and wood creations by Colby\n	Zeharaa Fountain of Youth offering energy healing\, QHTT past life regressions\, and Arkansas quartz jewelry\n	Nate the Mystic providing intuitive tarot readings\, guiding guests through insight\, reflection\, and discovery\n\n\nWith live music\, unique vendors\, food\, prizes\, and an easygoing atmosphere\, Summer Splash Bash 2026 promises to be one of the most talked-about gatherings of the season. Grab your friends and get ready to celebrate summer in true Eureka Springs style.
X-ALT-DESC;FMTTYPE=text/html:<p class="isSelectedEnd"><span style="color:#000000\;"><span style="font-size:16px\;"><span style="font-family:arial\;"><strong>Summer Splash Bash 2026</strong> is making waves in Eureka Springs\, and SUP Outfitters is the place to be on Monday\, April 27 from 5&ndash\;9 PM for an unforgettable evening of music\, adventure\, and laid-back summer vibes.</span></span></span></p>\n\n<p class="isSelectedEnd"><span style="color:#000000\;"><span style="font-size:16px\;"><span style="font-family:arial\;">Hosted by sibling duo Dylan and Samantha Buyskes\, this one-night celebration brings together great people\, live music\, and outdoor spirit. Guests can kick back with a BYOB setup (don&rsquo\;t forget a chair!) and enjoy a lively atmosphere under the spring sky.</span></span></span></p>\n\n<p class="isSelectedEnd"><span style="color:#000000\;"><span style="font-size:16px\;"><span style="font-family:arial\;">Taking the stage for the evening is Drew Kiddo and the Blackouts\, a gritty 1960s-style honky tonk band blending rockabilly energy with vintage flair as they pass through town for a special one-night performance.</span></span></span></p>\n\n<p class="isSelectedEnd"><span style="color:#000000\;"><span style="font-size:16px\;"><span style="font-family:arial\;">Attendees are encouraged to show up in style&mdash\;there will be prizes and drawings for best dressed\, along with exciting giveaways including a paddle board and an eco tour with a picnic catered by Simply Red Kitchen. Each ticket also includes a mini turkey corn dog to kick off the night.</span></span></span></p>\n\n<p class="isSelectedEnd"><span style="color:#000000\;"><span style="font-size:16px\;"><span style="font-family:arial\;">A curated lineup of local vendors adds to the experience:</span></span></span></p>\n\n<ul data-spread="false">\n	<li><span style="color:#000000\;"><span style="font-size:16px\;"><span style="font-family:arial\;"><strong>Simply Red Kitchen</strong> serving food (full menu coming soon)</span></span></span></li>\n	<li><span style="color:#000000\;"><span style="font-size:16px\;"><span style="font-family:arial\;"><strong>Green Man Crafts</strong> featuring handcrafted cutting boards and wood creations by Colby</span></span></span></li>\n	<li><span style="color:#000000\;"><span style="font-size:16px\;"><span style="font-family:arial\;"><strong>Zeharaa Fountain of Youth</strong> offering energy healing\, QHTT past life regressions\, and Arkansas quartz jewelry</span></span></span></li>\n	<li><span style="color:#000000\;"><span style="font-size:16px\;"><span style="font-family:arial\;"><strong>Nate the Mystic</strong> providing intuitive tarot readings\, guiding guests through insight\, reflection\, and discovery</span></span></span></li>\n</ul>\n\n<p><span style="color:#000000\;"><span style="font-size:16px\;"><span style="font-family:arial\;">With live music\, unique vendors\, food\, prizes\, and an easygoing atmosphere\, Summer Splash Bash 2026 promises to be one of the most talked-about gatherings of the season. Grab your friends and get ready to celebrate summer in true Eureka Springs style.</span></span></span></p>\n
LOCATION:SUP Outfitters 116 Arkansas 23 Eureka Springs\, AR 72632
UID:e.2743.11110
SEQUENCE:3
DTSTAMP:20260423T181831Z
URL:https://www.eurekaspringschamber.com/events/details/summer-splash-bash-11110
END:VEVENT

END:VCALENDAR
