BEGIN:VCALENDAR
VERSION:2.0
PRODID:-//ChamberMaster//Event Calendar 2.0//EN
METHOD:PUBLISH
X-PUBLISHED-TTL:P3D
REFRESH-INTERVAL:P3D
CALSCALE:GREGORIAN
BEGIN:VEVENT
DTSTART:20170318T190000Z
DTEND:20170318T200000Z
X-MICROSOFT-CDO-ALLDAYEVENT:FALSE
SUMMARY:St Patrick's Day Parade
DESCRIPTION:Wear your green and come join the celebration to honor the Irish stone masons that built Eureka Springs as we know it today.  The parade will begin from upper Spring Street and proceed to Main Street.  Parade kick-off time will be 2pm.
X-ALT-DESC;FMTTYPE=text/html:Wear your green and come join the celebration to honor the Irish stone masons that built Eureka Springs as we know it today.&nbsp\; The parade will begin from upper Spring Street and proceed to Main Street.&nbsp\; Parade kick-off time will be 2pm.
LOCATION:Visit StPaddy.ureeka.org for more information or parade entry form.
UID:e.2743.403
SEQUENCE:3
DTSTAMP:20260424T082632Z
URL:https://www.eurekaspringschamber.com/events/details/st-patrick-s-day-parade-403
END:VEVENT

END:VCALENDAR
