BEGIN:VCALENDAR
VERSION:2.0
PRODID:-//ChamberMaster//Event Calendar 2.0//EN
METHOD:PUBLISH
X-PUBLISHED-TTL:P3D
REFRESH-INTERVAL:P3D
CALSCALE:GREGORIAN
BEGIN:VEVENT
DTSTART:20210915T210000Z
DTEND:20210916T010000Z
X-MICROSOFT-CDO-ALLDAYEVENT:FALSE
SUMMARY:SIPtember
DESCRIPTION:Let's Celebrate Ocktoberfest Style! Outdoor festivities during the annual SIPtember fundraiser party sponsored by Eureka Springs Community Center & Got A Hold Brewery. Enjoy an Evening Outdoors with Great Beer & Cider\, Delicious Hors d'oeuvres\, Incredible Silent & Live Auction\, Music\, Costume Competition and last\, but not least\, the TEAM LAGER VS TEAM ALE COMPETITION of 2021! The star-studded teams (hand picked) will be competing against each other for some fun prizes & a Team Trophy! A great spectator event. PRIZE for Best Costume! For a Donation of $25 per person. Time: 4PM-8PM FAMILY Friendly Event - Kids Under 12 are Free. EVENT SCHEDULE 4 PM Doors Open - Ticket includes beer/cider tasting plus Oktoberfest themed foods. Schedule: 4PM - 6PM Silent & Auction - many GREAT items and services! 5PM - Costume Contest 6PM-6:30PM - Live Auction 6:30PM - 7:30PM PM TEAM LAGER VS TEAM ALE OF 2021 - Show your team support with a $5-$20+ donation in the name of your favorite team. Bragging rights for the winning team. Non alcoholic beverages will be available. A Great Evening Outdoors benefiting the Eureka Springs Community Center.
X-ALT-DESC;FMTTYPE=text/html:Let&#39\;s Celebrate Ocktoberfest Style! Outdoor festivities during the annual SIPtember fundraiser party sponsored by Eureka Springs Community Center &amp\; Got A Hold Brewery. Enjoy an Evening Outdoors with Great Beer &amp\; Cider\, Delicious Hors d&#39\;oeuvres\, Incredible Silent &amp\; Live Auction\, Music\, Costume Competition and last\, but not least\, the TEAM LAGER VS TEAM ALE COMPETITION of 2021! The star-studded teams (hand picked) will be competing against each other for some fun prizes &amp\; a Team Trophy! A great spectator event. PRIZE for Best Costume! For a Donation of $25 per person. Time: 4PM-8PM FAMILY Friendly Event - Kids Under 12 are Free. EVENT SCHEDULE 4 PM Doors Open - Ticket includes beer/cider tasting plus Oktoberfest themed foods. Schedule: 4PM - 6PM Silent &amp\; Auction - many GREAT items and services! 5PM - Costume Contest 6PM-6:30PM - Live Auction 6:30PM - 7:30PM PM TEAM LAGER VS TEAM ALE OF 2021 - Show your team support with a $5-$20+ donation in the name of your favorite team. Bragging rights for the winning team. Non alcoholic beverages will be available. A Great Evening Outdoors benefiting the Eureka Springs Community Center.
LOCATION:GotaHold Brewery 409 W Van Buren\, Eureka Springs\, AR 72632
UID:e.2743.4395
SEQUENCE:3
DTSTAMP:20260422T042000Z
URL:https://www.eurekaspringschamber.com/events/details/siptember-09-15-2021-4395
END:VEVENT

END:VCALENDAR
