BEGIN:VCALENDAR
VERSION:2.0
PRODID:-//ChamberMaster//Event Calendar 2.0//EN
METHOD:PUBLISH
X-PUBLISHED-TTL:P3D
REFRESH-INTERVAL:P3D
CALSCALE:GREGORIAN
BEGIN:VEVENT
DTSTART:20210911T150000Z
DTEND:20210911T210000Z
X-MICROSOFT-CDO-ALLDAYEVENT:FALSE
SUMMARY:Path to Authorship Workshop
DESCRIPTION:The Writers? Colony at Dairy Hollow is offering a writing workshop instructed by award-winning author and writing coach\, Nikki Hanna. ?The Path to Authorship? will help writers of all genres achieve their goals.  The workshop will be Saturday\, September 11th\, from 10:00 am to 4:00 pm at the Writers? Colony located at 515 Spring Street in Eureka Springs.  Participants must be fully vaccinated for COVID-19.  The class fee of $70 per person includes lunch and a copy of Nikki?s book\, ?Listen Up\, Writer: How Not to Write Like an Amateur.? Workshop attendees may reserve a writing suite at the subsidized rate of $75 per night\, single occupancy. Space is limited to ensure the ability so social distance.
X-ALT-DESC;FMTTYPE=text/html:The Writers? Colony at Dairy Hollow is offering a writing workshop instructed by award-winning author and writing coach\, Nikki Hanna. ?The Path to Authorship? will help writers of all genres achieve their goals.  The workshop will be Saturday\, September 11th\, from 10:00 am to 4:00 pm at the Writers? Colony located at 515 Spring Street in Eureka Springs.  Participants must be fully vaccinated for COVID-19.  The class fee of $70 per person includes lunch and a copy of Nikki?s book\, ?Listen Up\, Writer: How Not to Write Like an Amateur.? Workshop attendees may reserve a writing suite at the subsidized rate of $75 per night\, single occupancy. Space is limited to ensure the ability so social distance. 
LOCATION:The Writers' Colony at Dairy Hollow\, 515 Spring Street\, Eureka Springs 72632
UID:e.2743.4397
SEQUENCE:3
DTSTAMP:20260419T143750Z
URL:https://www.eurekaspringschamber.com/events/details/path-to-authorship-workshop-4397
END:VEVENT

END:VCALENDAR
