BEGIN:VCALENDAR
VERSION:2.0
PRODID:-//ChamberMaster//Event Calendar 2.0//EN
METHOD:PUBLISH
X-PUBLISHED-TTL:P3D
REFRESH-INTERVAL:P3D
CALSCALE:GREGORIAN
BEGIN:VEVENT
DTSTART;VALUE=DATE:20210625
DTEND;VALUE=DATE:20210724
TRANSP:TRANSPARENT
X-MICROSOFT-CDO-ALLDAYEVENT:TRUE
SUMMARY:Opera in the Ozarks
DESCRIPTION:Singers & musicians from across the nation come together for a series of truly inspired performances at Inspiration Point in Eureka Springs and venues throughout Northwest Arkansas.\n\nThe three operas being performed for the 2020 season are Massenet's Cendrillon\, Donizetti's Lucia Di Lammermoor\, and Ward's The Crucible.\n\nFor full 2020 schedule and advance ticket info please visit opera.org or call 479-253-8595.
X-ALT-DESC;FMTTYPE=text/html:<p style="margin: 0px 0px 10px\; padding: 0px\; border: 0px\; vertical-align: baseline\; font-size: 14px\; line-height: 1.7\; color: rgb(119\, 119\, 119)\; font-family: &quot\;Open Sans&quot\;\, Helvetica\, Arial\, sans-serif\;"><span style="color:#000000\;">Singers &amp\; musicians from across the nation come together for a series of truly inspired performances at Inspiration Point in Eureka Springs and venues throughout Northwest Arkansas.</span></p>\n\n<p style="margin: 0px 0px 10px\; padding: 0px\; border: 0px\; vertical-align: baseline\; font-size: 14px\; line-height: 1.7\; color: rgb(119\, 119\, 119)\; font-family: &quot\;Open Sans&quot\;\, Helvetica\, Arial\, sans-serif\;"><span style="color:#000000\;">The three operas being performed for the 2020 season are Massenet&rsquo\;s&nbsp\;<em style="margin: 0px\; padding: 0px\; border: 0px\; vertical-align: baseline\;">Cendrillon\,&nbsp\;</em>Donizetti&rsquo\;s&nbsp\;<em style="margin: 0px\; padding: 0px\; border: 0px\; vertical-align: baseline\;">Lucia Di Lammermoor\,&nbsp\;</em>and Ward&rsquo\;s<em style="margin: 0px\; padding: 0px\; border: 0px\; vertical-align: baseline\;">&nbsp\;The Crucible.</em></span></p>\n\n<p style="margin: 0px 0px 10px\; padding: 0px\; border: 0px\; vertical-align: baseline\; font-size: 14px\; line-height: 1.7\; color: rgb(119\, 119\, 119)\; font-family: &quot\;Open Sans&quot\;\, Helvetica\, Arial\, sans-serif\;"><span style="color:#000000\;">For full 2020 schedule and advance ticket info please visit&nbsp\;</span><a href="http://opera.org/" style="margin: 0px\; padding: 0px\; border: 0px\; vertical-align: baseline\; color: rgb(0\, 10\, 5)\; text-decoration-line: none\;"><span style="color:#000000\;">opera.org</span></a><span style="color:#000000\;">&nbsp\;or call 479-253-8595.</span></p>\n
LOCATION:Inspiration Point\, 16311 Highway 62 W
UID:e.2743.4178
SEQUENCE:3
DTSTAMP:20260420T023527Z
URL:https://www.eurekaspringschamber.com/events/details/opera-in-the-ozarks-4178
END:VEVENT

END:VCALENDAR
