BEGIN:VCALENDAR
VERSION:2.0
PRODID:-//ChamberMaster//Event Calendar 2.0//EN
METHOD:PUBLISH
X-PUBLISHED-TTL:P3D
REFRESH-INTERVAL:P3D
CALSCALE:GREGORIAN
BEGIN:VEVENT
DTSTART:20210502T180000Z
DTEND:20210502T210000Z
X-MICROSOFT-CDO-ALLDAYEVENT:FALSE
SUMMARY:Memoir Writing Workshop
DESCRIPTION:The Writers' Colony at Dairy Hollow is offering a Memoir Writing Workshop instructed by highly accomplished author\, Cassandra Clark. She has been ghostwriter and collaborator for numerous memoirs and blogs and has written screenplays and teleplays during a 20 year career as a Comedy Writer/Producer for TV sitcoms including the Emmy-award-winning TV show\, "Designing Women." Workshop attendees may reserve a writing suite at the subsidized rate of $75 per night based on availability and single occupancy. The workshop is limited to 10 attendees\, and it sold out in 2020\, so register early! For details or to register\, visit writerscolony.org/events.
X-ALT-DESC;FMTTYPE=text/html:The Writers&#39\; Colony at Dairy Hollow is offering a Memoir Writing Workshop instructed by highly accomplished author\, Cassandra Clark. She has been ghostwriter and collaborator for numerous memoirs and blogs and has written screenplays and teleplays during a 20 year career as a Comedy Writer/Producer for TV sitcoms including the Emmy-award-winning TV show\, &ldquo\;Designing Women.&rdquo\; Workshop attendees may reserve a writing suite at the subsidized rate of $75 per night based on availability and single occupancy. The workshop is limited to 10 attendees\, and it sold out in 2020\, so register early! For details or to register\, visit writerscolony.org/events.
LOCATION:The Writers' Colony at Dairy Hollow 515 Spring Street Eureka Springs\, AR 72632
UID:e.2743.4342
SEQUENCE:3
DTSTAMP:20260421T233846Z
URL:https://www.eurekaspringschamber.com/events/details/memoir-writing-workshop-4342
END:VEVENT

END:VCALENDAR
