BEGIN:VCALENDAR
VERSION:2.0
PRODID:-//ChamberMaster//Event Calendar 2.0//EN
METHOD:PUBLISH
X-PUBLISHED-TTL:P3D
REFRESH-INTERVAL:P3D
CALSCALE:GREGORIAN
BEGIN:VEVENT
DTSTART:20191221T010000Z
DTEND:20191221T033000Z
X-MICROSOFT-CDO-ALLDAYEVENT:FALSE
SUMMARY:Home for the Holidays Concert
DESCRIPTION:Home for the Holidays Concert December 20 @ 7:00 pm - 9:30 pm The Ozarks hills will come alive with the sound of holiday music on Friday\, December 20th when the annual Home for the Holidays Concert takes place in The Auditorium. Local Eureka Springs singers and groups will perform songs of the season. Doors open at 6:30 and show time is 7 p.m. There is no charge to attend the concert but donations to the Flint Street Food Bank are accepted at the door.
X-ALT-DESC;FMTTYPE=text/html:Home for the Holidays Concert December 20 @ 7:00 pm - 9:30 pm The Ozarks hills will come alive with the sound of holiday music on Friday\, December 20th when the annual Home for the Holidays Concert takes place in The Auditorium. Local Eureka Springs singers and groups will perform songs of the season. Doors open at 6:30 and show time is 7 p.m. There is no charge to attend the concert but donations to the Flint Street Food Bank are accepted at the door.
LOCATION:The Eureka Springs Auditorium
UID:e.2743.4063
SEQUENCE:3
DTSTAMP:20260422T123805Z
URL:https://www.eurekaspringschamber.com/events/details/home-for-the-holidays-concert-4063
END:VEVENT

END:VCALENDAR
