BEGIN:VCALENDAR
VERSION:2.0
PRODID:-//ChamberMaster//Event Calendar 2.0//EN
METHOD:PUBLISH
X-PUBLISHED-TTL:P3D
REFRESH-INTERVAL:P3D
CALSCALE:GREGORIAN
BEGIN:VEVENT
DTSTART:20210731T150000Z
DTEND:20210731T170000Z
X-MICROSOFT-CDO-ALLDAYEVENT:FALSE
SUMMARY:Ground Zero Self-Published Author Course
DESCRIPTION:The Writers' Colony at Dairy Hollow presents "Ground Zero Self-Published Author\," a workshop instructed by bestselling Author and Publishing Coach\, Joylynn M. Ross. It will be held at 10:00 am to noon on Saturday\, July 31\, at 515 Spring Street in Eureka Springs. The workshop is $40. All proceeds benefit the WCDH scholarship fund. The goal of this course is to teach novice or aspiring authors the steps\, money\, and time it will take to write and self-publish a book.
X-ALT-DESC;FMTTYPE=text/html:The Writers&rsquo\; Colony at Dairy Hollow presents &ldquo\;Ground Zero Self-Published Author\,&rdquo\; a workshop instructed by bestselling Author and Publishing Coach\, Joylynn M. Ross. It will be held at 10:00 am to noon on Saturday\, July 31\, at 515 Spring Street in Eureka Springs. The workshop is $40. All proceeds benefit the WCDH scholarship fund. The goal of this course is to teach novice or aspiring authors the steps\, money\, and time it will take to write and self-publish a book.
LOCATION:The Writers' Colony at Dairy Hollow\, 515 Spring Street\, Eureka Springs\, AR 72632
UID:e.2743.4375
SEQUENCE:3
DTSTAMP:20260420T151257Z
URL:https://www.eurekaspringschamber.com/events/details/ground-zero-self-published-author-course-4375
END:VEVENT

END:VCALENDAR
