BEGIN:VCALENDAR
VERSION:2.0
PRODID:-//ChamberMaster//Event Calendar 2.0//EN
METHOD:PUBLISH
X-PUBLISHED-TTL:P3D
REFRESH-INTERVAL:P3D
CALSCALE:GREGORIAN
BEGIN:VEVENT
DTSTART:20210923T130000Z
DTEND:20210923T180000Z
X-MICROSOFT-CDO-ALLDAYEVENT:FALSE
SUMMARY:Fall Plant Sale
DESCRIPTION:The ES Farmers' Market Fall Native Plant sale on Thursday\, September 23rd from 8:00AM-1:00PM at the ES Community Center will feature Ozark Soul Native Plants\, and a Seed Swap with free seeds courtesy of the bountiful gardens of Angie Campbell-Johnson! This event will have on-site shopping\, or preorders can be made by visiting ozarksoul.com or emailing natives@ozarksoul.com. The Eureka Springs Native Plant Garden Project and Arkansas Master Naturalists will also be joining us! Come learn about both organizations!
X-ALT-DESC;FMTTYPE=text/html:The ES Farmers&#39\; Market Fall Native Plant sale on Thursday\, September 23rd from 8:00AM-1:00PM at the ES Community Center will feature Ozark Soul Native Plants\, and a Seed Swap with free seeds courtesy of the bountiful gardens of Angie Campbell-Johnson! This event will have on-site shopping\, or preorders can be made by visiting ozarksoul.com or emailing natives@ozarksoul.com. The Eureka Springs Native Plant Garden Project and Arkansas Master Naturalists will also be joining us! Come learn about both organizations!
LOCATION:Eureka Springs Farmers' Market 44 Kings Hwy. Eureka Springs\, AR
UID:e.2743.4401
SEQUENCE:3
DTSTAMP:20260419T180747Z
URL:https://www.eurekaspringschamber.com/events/details/fall-plant-sale-4401
END:VEVENT

END:VCALENDAR
