BEGIN:VCALENDAR
VERSION:2.0
PRODID:-//ChamberMaster//Event Calendar 2.0//EN
METHOD:PUBLISH
X-PUBLISHED-TTL:P3D
REFRESH-INTERVAL:P3D
CALSCALE:GREGORIAN
BEGIN:VEVENT
DTSTART:20210917T170000Z
DTEND:20210919T170000Z
X-MICROSOFT-CDO-ALLDAYEVENT:FALSE
SUMMARY:Eureka Springs Jeep Jam
DESCRIPTION:Click Here To Register Now!\n1st annual Eureka Springs Jeep Jam on September 17-19\, benefiting disabled and injured vets through Peterson Outdoors! We will have 3 full days of action packed JEEP activities\, including a JEEP Show\, parade\, trail rides and MORE! Go "like" us on Facebook and make plans to get to Eureka and join in the fun....benefiting a great cause!
X-ALT-DESC;FMTTYPE=text/html:<div style="text-align: center\;"><span style="font-size:22px\;"><strong><a href="https://buy.chip-in.us/?nonprofitId=135924" target="_blank"><span style="color:#0000FF\;">Click Here To Register Now!</span></a></strong></span></div>\n1st annual Eureka Springs Jeep Jam on September 17-19\, benefiting disabled and injured vets through Peterson Outdoors! We will have 3 full days of action packed JEEP activities\, including a JEEP Show\, parade\, trail rides and MORE! <strong><a href="https://www.facebook.com/Eureka-Springs-Jeep-Jam-111425027717639" target="_blank">Go &ldquo\;like&rdquo\; us on Facebook</a></strong> and make plans to get to Eureka and join in the fun....benefiting a great cause!
LOCATION:Passion Play grounds
UID:e.2743.4350
SEQUENCE:3
DTSTAMP:20260423T100855Z
URL:https://www.eurekaspringschamber.com/events/details/eureka-springs-jeep-jam-4350
END:VEVENT

END:VCALENDAR
