BEGIN:VCALENDAR
VERSION:2.0
PRODID:-//ChamberMaster//Event Calendar 2.0//EN
METHOD:PUBLISH
X-PUBLISHED-TTL:P3D
REFRESH-INTERVAL:P3D
CALSCALE:GREGORIAN
BEGIN:VEVENT
DTSTART:20191205T000000Z
DTEND:20191205T010000Z
X-MICROSOFT-CDO-ALLDAYEVENT:FALSE
SUMMARY:Christmas Parade of Lights
DESCRIPTION:One of Eureka's favorite parades.  This year's Parade of Lights rolls at 6:00PM through the beautifully decorated downtown streets with floats\, walkers\, bands and thousands of lights. This year's theme is TBA. Start your holiday season in Eureka. Please click the top "Buy Tickets" button to register. For more information call 479-253-8737
X-ALT-DESC;FMTTYPE=text/html:One of Eureka&#39\;s&nbsp\;favorite parades.&nbsp\; This year&#39\;s Parade of Lights&nbsp\;rolls at 6:00PM through the beautifully&nbsp\;decorated downtown streets with floats\, walkers\, bands and thousands of lights. This year&#39\;s theme is TBA. Start your holiday season&nbsp\;in Eureka. Please click the top &quot\;Buy Tickets&quot\; button to register. For more information call 479-253-8737&nbsp\;
LOCATION:Eureka Springs\, AR\, 72632\, United States
UID:e.2743.3834
SEQUENCE:3
DTSTAMP:20260420T012201Z
URL:https://www.eurekaspringschamber.com/events/details/christmas-parade-of-lights-3834
END:VEVENT

END:VCALENDAR
