BEGIN:VCALENDAR
VERSION:2.0
PRODID:-//ChamberMaster//Event Calendar 2.0//EN
METHOD:PUBLISH
X-PUBLISHED-TTL:P3D
REFRESH-INTERVAL:P3D
CALSCALE:GREGORIAN
BEGIN:VEVENT
DTSTART;VALUE=DATE:20260424
DTEND;VALUE=DATE:20260427
TRANSP:TRANSPARENT
X-MICROSOFT-CDO-ALLDAYEVENT:TRUE
SUMMARY:Bluebird Mountain Magic Retreat
DESCRIPTION:Bluebird Mountain Magic is a curated\, all-inclusive women's wellness weekend designed to offer a deeply immersive and restorative experience in the heart of the Ozarks. Hosted at The Bluebird Eureka Springs\, the retreat blends yoga\, meditation\, exceptional local culinary experiences\, and thoughtfully crafted activities that reflect the spirit and beauty of the region.\n\nThroughout the weekend\, guests participate in yoga and breathwork sessions led by Nicole Peltier of Raven Yoga Nation (Tulsa)\, along with meditation and a sound bath experience guided by local practitioner Maria Hilgert. The culinary component highlights standout local talent\, featuring dinners by Chef Samantha of Simply Red Events and Chef Jennifer of Three Bird Caf .\n\nThe experience extends beyond the property with a visit to La Grange Lavender Farm for brunch and a Fleetwood Mac inspired yoga flow\, complemented by live music from local artist Carolina Mendoza. Designed to feel both elevated and distinctly rooted in place\, Bluebird Mountain Magic showcases the richness of the Eureka Springs community while creating space for connection\, relaxation\, and renewal.
X-ALT-DESC;FMTTYPE=text/html:<section class="text-token-text-primary w-full focus:outline-none [--shadow-height:45px] has-data-writing-block:pointer-events-none has-data-writing-block:-mt-(--shadow-height) has-data-writing-block:pt-(--shadow-height) [&amp\;:has([data-writing-block])&gt\;*]:pointer-events-auto scroll-mt-(--header-height)" data-scroll-anchor="false" data-testid="conversation-turn-1" data-turn="user" data-turn-id="b8fffecc-f730-44ac-8d51-21554c0f35db" dir="auto">\n<p data-end="376" data-start="0"><span style="color:#000000\;"><span style="font-size:16px\;"><span style="font-family:arial\;"><strong data-end="27" data-start="0">Bluebird Mountain Magic</strong> is a curated\, all-inclusive women&rsquo\;s wellness weekend designed to offer a deeply immersive and restorative experience in the heart of the Ozarks. Hosted at The Bluebird Eureka Springs\, the retreat blends yoga\, meditation\, exceptional local culinary experiences\, and thoughtfully crafted activities that reflect the spirit and beauty of the region.</span></span></span></p>\n\n<p data-end="751" data-start="378"><span style="color:#000000\;"><span style="font-size:16px\;"><span style="font-family:arial\;">Throughout the weekend\, guests participate in yoga and breathwork sessions led by Nicole Peltier of Raven Yoga Nation (Tulsa)\, along with meditation and a sound bath experience guided by local practitioner Maria Hilgert. The culinary component highlights standout local talent\, featuring dinners by Chef Samantha of Simply Red Events and Chef Jennifer of Three Bird Caf&eacute\;.</span></span></span></p>\n\n<p data-end="1153" data-is-last-node="" data-is-only-node="" data-start="753"><span style="color:#000000\;"><span style="font-size:16px\;"><span style="font-family:arial\;">The experience extends beyond the property with a visit to La Grange Lavender Farm for brunch and a Fleetwood Mac&ndash\;inspired yoga flow\, complemented by live music from local artist Carolina Mendoza. Designed to feel both elevated and distinctly rooted in place\, Bluebird Mountain Magic showcases the richness of the Eureka Springs community while creating space for connection\, relaxation\, and renewal.</span></span></span></p>\n</section>\n
LOCATION:The Bluebird 5855 Hwy 62 W. Eureka Springs\, AR 72632
UID:e.2743.11127
SEQUENCE:3
DTSTAMP:20260420T084813Z
URL:https://www.eurekaspringschamber.com/events/details/bluebird-mountain-magic-retreat-11127
END:VEVENT

END:VCALENDAR
