BEGIN:VCALENDAR
VERSION:2.0
PRODID:-//ChamberMaster//Event Calendar 2.0//EN
METHOD:PUBLISH
X-PUBLISHED-TTL:P3D
REFRESH-INTERVAL:P3D
CALSCALE:GREGORIAN
BEGIN:VEVENT
DTSTART;VALUE=DATE:20210730
DTEND;VALUE=DATE:20210808
TRANSP:TRANSPARENT
X-MICROSOFT-CDO-ALLDAYEVENT:TRUE
SUMMARY:Arkansas Yarn Crawl
DESCRIPTION:A tour of Arkansas' premier yarn shops. Stop by Shoppes at Fleece N Flax to pick up a passport and enter the prize drawings.
X-ALT-DESC;FMTTYPE=text/html:A tour of Arkansas&#39\; premier yarn shops. Stop by Shoppes at Fleece N Flax to pick up a passport and enter the prize drawings.
LOCATION:Shoppes at Fleece N Flax 51 Spring Street Eureka Springs\, AR 72632
UID:e.2743.3480
SEQUENCE:3
DTSTAMP:20260420T045606Z
URL:https://www.eurekaspringschamber.com/events/details/arkansas-yarn-crawl-3480
END:VEVENT

END:VCALENDAR
